BEGIN:VCALENDAR
VERSION:2.0
PRODID:-//SI Petites Dalles ! - ECPv6.15.20//NONSGML v1.0//EN
CALSCALE:GREGORIAN
METHOD:PUBLISH
X-ORIGINAL-URL:https://sipetitesdalles.org
X-WR-CALDESC:Évènements pour SI Petites Dalles !
REFRESH-INTERVAL;VALUE=DURATION:PT1H
X-Robots-Tag:noindex
X-PUBLISHED-TTL:PT1H
BEGIN:VTIMEZONE
TZID:Europe/Paris
BEGIN:DAYLIGHT
TZOFFSETFROM:+0100
TZOFFSETTO:+0200
TZNAME:CEST
DTSTART:20230326T010000
END:DAYLIGHT
BEGIN:STANDARD
TZOFFSETFROM:+0200
TZOFFSETTO:+0100
TZNAME:CET
DTSTART:20231029T010000
END:STANDARD
BEGIN:DAYLIGHT
TZOFFSETFROM:+0100
TZOFFSETTO:+0200
TZNAME:CEST
DTSTART:20240331T010000
END:DAYLIGHT
BEGIN:STANDARD
TZOFFSETFROM:+0200
TZOFFSETTO:+0100
TZNAME:CET
DTSTART:20241027T010000
END:STANDARD
BEGIN:DAYLIGHT
TZOFFSETFROM:+0100
TZOFFSETTO:+0200
TZNAME:CEST
DTSTART:20250330T010000
END:DAYLIGHT
BEGIN:STANDARD
TZOFFSETFROM:+0200
TZOFFSETTO:+0100
TZNAME:CET
DTSTART:20251026T010000
END:STANDARD
END:VTIMEZONE
BEGIN:VEVENT
DTSTART;TZID=Europe/Paris:20240816T180000
DTEND;TZID=Europe/Paris:20240816T190000
DTSTAMP:20260421T002123
CREATED:20240512T091527Z
LAST-MODIFIED:20240807T100805Z
UID:2561-1723831200-1723834800@sipetitesdalles.org
SUMMARY:Conférence : L'histoire de la chapelle
DESCRIPTION:Par Geneviève Günther
URL:https://sipetitesdalles.org/evenement/conference-lhistoire-de-la-chapelle/
LOCATION:Chapelle des Petites Dalles\, RG9G+XC\, Les Petites Dalles
CATEGORIES:Tout public
END:VEVENT
END:VCALENDAR