BEGIN:VCALENDAR
VERSION:2.0
PRODID:-//SI Petites Dalles ! - ECPv6.15.20//NONSGML v1.0//EN
CALSCALE:GREGORIAN
METHOD:PUBLISH
X-ORIGINAL-URL:https://sipetitesdalles.org
X-WR-CALDESC:Évènements pour SI Petites Dalles !
REFRESH-INTERVAL;VALUE=DURATION:PT1H
X-Robots-Tag:noindex
X-PUBLISHED-TTL:PT1H
BEGIN:VTIMEZONE
TZID:Europe/Paris
BEGIN:DAYLIGHT
TZOFFSETFROM:+0100
TZOFFSETTO:+0200
TZNAME:CEST
DTSTART:20240331T010000
END:DAYLIGHT
BEGIN:STANDARD
TZOFFSETFROM:+0200
TZOFFSETTO:+0100
TZNAME:CET
DTSTART:20241027T010000
END:STANDARD
BEGIN:DAYLIGHT
TZOFFSETFROM:+0100
TZOFFSETTO:+0200
TZNAME:CEST
DTSTART:20250330T010000
END:DAYLIGHT
BEGIN:STANDARD
TZOFFSETFROM:+0200
TZOFFSETTO:+0100
TZNAME:CET
DTSTART:20251026T010000
END:STANDARD
BEGIN:DAYLIGHT
TZOFFSETFROM:+0100
TZOFFSETTO:+0200
TZNAME:CEST
DTSTART:20260329T010000
END:DAYLIGHT
BEGIN:STANDARD
TZOFFSETFROM:+0200
TZOFFSETTO:+0100
TZNAME:CET
DTSTART:20261025T010000
END:STANDARD
END:VTIMEZONE
BEGIN:VEVENT
DTSTART;VALUE=DATE:20250405
DTEND;VALUE=DATE:20250512
DTSTAMP:20260420T224556
CREATED:20250418T135432Z
LAST-MODIFIED:20250418T135432Z
UID:2837-1743811200-1747007999@sipetitesdalles.org
SUMMARY:Exposition : les broderies de Charlène Canchel
DESCRIPTION:
URL:https://sipetitesdalles.org/evenement/exposition-les-broderies-de-charlene-canchel/
LOCATION:Maison des croyances et traditions cauchoises\, 18\, rue de la mairie\, Saint-Pierre-en-Port\, 76540\, France
CATEGORIES:Tout public
ATTACH;FMTTYPE=image/webp:https://sipetitesdalles.org/wp-content/uploads/2025/04/Les-broderies-de-Charlene-Canchel-.webp
ORGANIZER;CN="Maison des croyances et traditions cauchoises":MAILTO:maisondescroyances@yahoo.fr
END:VEVENT
BEGIN:VEVENT
DTSTART;VALUE=DATE:20250406
DTEND;VALUE=DATE:20250407
DTSTAMP:20260420T224556
CREATED:20250412T204104Z
LAST-MODIFIED:20250418T132551Z
UID:1957-1743897600-1743983999@sipetitesdalles.org
SUMMARY:Concours de pétanque / Repas
DESCRIPTION:Concours\, suivi d’un repas Salles des mouettes. \nDates concours organisés par l’Association de Pétanque Saint-Martinaise (APSM): \n\n06/04\n21/04\n04/05\n18/05\n31/05\n15/06\n29/06\n27/07\n15/08\n24/08\n07/09\n21/09\n05/10
URL:https://sipetitesdalles.org/evenement/concours-de-petanque-repas/
LOCATION:Saint-Martin-aux-Buneaux\, RHG3+26\, Saint-Martin-aux-Buneaux
CATEGORIES:Tout public
END:VEVENT
BEGIN:VEVENT
DTSTART;VALUE=DATE:20250427
DTEND;VALUE=DATE:20250428
DTSTAMP:20260420T224556
CREATED:20250418T133550Z
LAST-MODIFIED:20250418T133550Z
UID:2821-1745712000-1745798399@sipetitesdalles.org
SUMMARY:Concours de boules cauchoises
DESCRIPTION:
URL:https://sipetitesdalles.org/evenement/concours-de-boules-cauchoises/
LOCATION:Maison des croyances et traditions cauchoises\, 18\, rue de la mairie\, Saint-Pierre-en-Port\, 76540\, France
CATEGORIES:Tout public
ORGANIZER;CN="Maison des croyances et traditions cauchoises":MAILTO:maisondescroyances@yahoo.fr
END:VEVENT
END:VCALENDAR