BEGIN:VCALENDAR
VERSION:2.0
PRODID:-//SI Petites Dalles ! - ECPv6.15.20//NONSGML v1.0//EN
CALSCALE:GREGORIAN
METHOD:PUBLISH
X-WR-CALNAME:SI Petites Dalles !
X-ORIGINAL-URL:https://sipetitesdalles.org
X-WR-CALDESC:Évènements pour SI Petites Dalles !
REFRESH-INTERVAL;VALUE=DURATION:PT1H
X-Robots-Tag:noindex
X-PUBLISHED-TTL:PT1H
BEGIN:VTIMEZONE
TZID:Europe/Paris
BEGIN:DAYLIGHT
TZOFFSETFROM:+0100
TZOFFSETTO:+0200
TZNAME:CEST
DTSTART:20240331T010000
END:DAYLIGHT
BEGIN:STANDARD
TZOFFSETFROM:+0200
TZOFFSETTO:+0100
TZNAME:CET
DTSTART:20241027T010000
END:STANDARD
BEGIN:DAYLIGHT
TZOFFSETFROM:+0100
TZOFFSETTO:+0200
TZNAME:CEST
DTSTART:20250330T010000
END:DAYLIGHT
BEGIN:STANDARD
TZOFFSETFROM:+0200
TZOFFSETTO:+0100
TZNAME:CET
DTSTART:20251026T010000
END:STANDARD
BEGIN:DAYLIGHT
TZOFFSETFROM:+0100
TZOFFSETTO:+0200
TZNAME:CEST
DTSTART:20260329T010000
END:DAYLIGHT
BEGIN:STANDARD
TZOFFSETFROM:+0200
TZOFFSETTO:+0100
TZNAME:CET
DTSTART:20261025T010000
END:STANDARD
END:VTIMEZONE
BEGIN:VEVENT
DTSTART;VALUE=DATE:20250405
DTEND;VALUE=DATE:20250512
DTSTAMP:20260421T002015
CREATED:20250418T135432Z
LAST-MODIFIED:20250418T135432Z
UID:2837-1743811200-1747007999@sipetitesdalles.org
SUMMARY:Exposition : les broderies de Charlène Canchel
DESCRIPTION:
URL:https://sipetitesdalles.org/evenement/exposition-les-broderies-de-charlene-canchel/
LOCATION:Maison des croyances et traditions cauchoises\, 18\, rue de la mairie\, Saint-Pierre-en-Port\, 76540\, France
CATEGORIES:Tout public
ATTACH;FMTTYPE=image/webp:https://sipetitesdalles.org/wp-content/uploads/2025/04/Les-broderies-de-Charlene-Canchel-.webp
ORGANIZER;CN="Maison des croyances et traditions cauchoises":MAILTO:maisondescroyances@yahoo.fr
END:VEVENT
BEGIN:VEVENT
DTSTART;VALUE=DATE:20250501
DTEND;VALUE=DATE:20250502
DTSTAMP:20260421T002015
CREATED:20250418T102043Z
LAST-MODIFIED:20250418T102830Z
UID:2803-1746057600-1746143999@sipetitesdalles.org
SUMMARY:Foire à tout
DESCRIPTION:
URL:https://sipetitesdalles.org/evenement/foire-a-tout/
LOCATION:Saint-Martin-aux-Buneaux\, RHG3+26\, Saint-Martin-aux-Buneaux
CATEGORIES:Tout public
END:VEVENT
BEGIN:VEVENT
DTSTART;TZID=Europe/Paris:20250507T180000
DTEND;TZID=Europe/Paris:20250507T193000
DTSTAMP:20260421T002015
CREATED:20250412T130151Z
LAST-MODIFIED:20250418T094906Z
UID:2578-1746640800-1746646200@sipetitesdalles.org
SUMMARY:Conférence : À la table du moyen-age
DESCRIPTION:Conférence SASdit avec Frédéric TOUSSAINT – Ecrivain – Propriétaire du Manoir du Catel  \nParlons couleurs\, saveurs\, odeurs\, herbes et épices… \nEvoquons les banquets seigneuriaux à la riche vaisselle\, les tables paysannes couvertes de légumes\, de potées\, de brouets\, la table des moines au calendrier bien réglé… \nInvitons les jeunes marmitons et les grands maitres-queux dont la renommée a su traverser les siècles ! \nDécouvrons les us et coutumes de cette période fascinante. Le Moyen-Âge a beaucoup à nous apprendre sur la façon de cultiver\, de manger\, de conserver\, de se soigner\, de partager aussi.
URL:https://sipetitesdalles.org/evenement/conference-a-la-table-du-moyen-age/
LOCATION:Salle de la Concorde\, 12\, rue Louis Barbier\, Valmont\, 76540
CATEGORIES:Tout public
END:VEVENT
BEGIN:VEVENT
DTSTART;VALUE=DATE:20250517
DTEND;VALUE=DATE:20250518
DTSTAMP:20260421T002015
CREATED:20250418T133649Z
LAST-MODIFIED:20250418T133649Z
UID:2823-1747440000-1747526399@sipetitesdalles.org
SUMMARY:Théâtre cauchois avec les Matrimoines
DESCRIPTION:
URL:https://sipetitesdalles.org/evenement/theatre-cauchois-avec-les-matrimoines/
LOCATION:Maison des croyances et traditions cauchoises\, 18\, rue de la mairie\, Saint-Pierre-en-Port\, 76540\, France
CATEGORIES:Tout public
ORGANIZER;CN="Maison des croyances et traditions cauchoises":MAILTO:maisondescroyances@yahoo.fr
END:VEVENT
BEGIN:VEVENT
DTSTART;VALUE=DATE:20250517
DTEND;VALUE=DATE:20250630
DTSTAMP:20260421T002015
CREATED:20250418T135722Z
LAST-MODIFIED:20250418T135722Z
UID:2840-1747440000-1751241599@sipetitesdalles.org
SUMMARY:Exposition : les scultures de Jean-Marc Lecomte
DESCRIPTION:
URL:https://sipetitesdalles.org/evenement/exposition-les-scultures-de-jean-marc-lecomte/
LOCATION:Maison des croyances et traditions cauchoises\, 18\, rue de la mairie\, Saint-Pierre-en-Port\, 76540\, France
CATEGORIES:Tout public
ORGANIZER;CN="Maison des croyances et traditions cauchoises":MAILTO:maisondescroyances@yahoo.fr
END:VEVENT
END:VCALENDAR