BEGIN:VCALENDAR
VERSION:2.0
PRODID:-//SI Petites Dalles ! - ECPv6.15.20//NONSGML v1.0//EN
CALSCALE:GREGORIAN
METHOD:PUBLISH
X-ORIGINAL-URL:https://sipetitesdalles.org
X-WR-CALDESC:Évènements pour SI Petites Dalles !
REFRESH-INTERVAL;VALUE=DURATION:PT1H
X-Robots-Tag:noindex
X-PUBLISHED-TTL:PT1H
BEGIN:VTIMEZONE
TZID:Europe/Paris
BEGIN:DAYLIGHT
TZOFFSETFROM:+0100
TZOFFSETTO:+0200
TZNAME:CEST
DTSTART:20240331T010000
END:DAYLIGHT
BEGIN:STANDARD
TZOFFSETFROM:+0200
TZOFFSETTO:+0100
TZNAME:CET
DTSTART:20241027T010000
END:STANDARD
BEGIN:DAYLIGHT
TZOFFSETFROM:+0100
TZOFFSETTO:+0200
TZNAME:CEST
DTSTART:20250330T010000
END:DAYLIGHT
BEGIN:STANDARD
TZOFFSETFROM:+0200
TZOFFSETTO:+0100
TZNAME:CET
DTSTART:20251026T010000
END:STANDARD
BEGIN:DAYLIGHT
TZOFFSETFROM:+0100
TZOFFSETTO:+0200
TZNAME:CEST
DTSTART:20260329T010000
END:DAYLIGHT
BEGIN:STANDARD
TZOFFSETFROM:+0200
TZOFFSETTO:+0100
TZNAME:CET
DTSTART:20261025T010000
END:STANDARD
END:VTIMEZONE
BEGIN:VEVENT
DTSTART;VALUE=DATE:20250517
DTEND;VALUE=DATE:20250630
DTSTAMP:20260421T020752
CREATED:20250418T135722Z
LAST-MODIFIED:20250418T135722Z
UID:2840-1747440000-1751241599@sipetitesdalles.org
SUMMARY:Exposition : les scultures de Jean-Marc Lecomte
DESCRIPTION:
URL:https://sipetitesdalles.org/evenement/exposition-les-scultures-de-jean-marc-lecomte/
LOCATION:Maison des croyances et traditions cauchoises\, 18\, rue de la mairie\, Saint-Pierre-en-Port\, 76540\, France
CATEGORIES:Tout public
ORGANIZER;CN="Maison des croyances et traditions cauchoises":MAILTO:maisondescroyances@yahoo.fr
END:VEVENT
BEGIN:VEVENT
DTSTART;VALUE=DATE:20250601
DTEND;VALUE=DATE:20250602
DTSTAMP:20260421T020752
CREATED:20250412T105134Z
LAST-MODIFIED:20250418T103349Z
UID:2570-1748736000-1748822399@sipetitesdalles.org
SUMMARY:Salon des écrivains
DESCRIPTION:
URL:https://sipetitesdalles.org/evenement/salon-du-livre-rencontre-decrivains/
LOCATION:Salle Paul Vairetti\, RH54+24\, Vinnemerville\, France
CATEGORIES:Tout public
ORGANIZER;CN="Anim'Art":MAILTO:animart76@orange.fr
END:VEVENT
BEGIN:VEVENT
DTSTART;VALUE=DATE:20250601
DTEND;VALUE=DATE:20250602
DTSTAMP:20260421T020752
CREATED:20250418T102145Z
LAST-MODIFIED:20250418T102145Z
UID:2805-1748736000-1748822399@sipetitesdalles.org
SUMMARY:Foire à tout
DESCRIPTION:
URL:https://sipetitesdalles.org/evenement/foire-a-tout-2/
LOCATION:Saint-Martin-aux-Buneaux\, RHG3+26\, Saint-Martin-aux-Buneaux
CATEGORIES:Tout public
END:VEVENT
BEGIN:VEVENT
DTSTART;TZID=Europe/Paris:20250604T180000
DTEND;TZID=Europe/Paris:20250604T193000
DTSTAMP:20260421T020752
CREATED:20250412T130523Z
LAST-MODIFIED:20250418T094818Z
UID:2582-1749060000-1749065400@sipetitesdalles.org
SUMMARY:Conférence : La littérature jeunesse
DESCRIPTION:Conférence SASdit avec Agnès DESARTHE. \n\n\nÉcrire pour les enfants est-ce écrire plus court\, plus simple\, plus drôle ?
URL:https://sipetitesdalles.org/evenement/conference-la-litterature-jeunesse/
LOCATION:Salle de la Concorde\, 12\, rue Louis Barbier\, Valmont\, 76540
CATEGORIES:Tout public
END:VEVENT
BEGIN:VEVENT
DTSTART;VALUE=DATE:20250608
DTEND;VALUE=DATE:20250609
DTSTAMP:20260421T020752
CREATED:20250414T211213Z
LAST-MODIFIED:20250428T111930Z
UID:686-1749340800-1749427199@sipetitesdalles.org
SUMMARY:Foire-à-tout de Sassetot
DESCRIPTION:
URL:https://sipetitesdalles.org/evenement/foire-a-tout-de-sassetot/
LOCATION:Terrain de foot\, RG4F+4V\, Sassetot-le-Mauconduit\, 76540\, France
CATEGORIES:Tout public
ATTACH;FMTTYPE=image/jpeg:https://sipetitesdalles.org/wp-content/uploads/2025/04/Facebook.jpg
END:VEVENT
BEGIN:VEVENT
DTSTART;VALUE=DATE:20250608
DTEND;VALUE=DATE:20250609
DTSTAMP:20260421T020752
CREATED:20250418T133745Z
LAST-MODIFIED:20250418T133745Z
UID:2825-1749340800-1749427199@sipetitesdalles.org
SUMMARY:Marché d'artisans et producteurs locaux
DESCRIPTION:
URL:https://sipetitesdalles.org/evenement/marche-dartisans-et-producteurs-locaux/
LOCATION:Maison des croyances et traditions cauchoises\, 18\, rue de la mairie\, Saint-Pierre-en-Port\, 76540\, France
CATEGORIES:Tout public
ORGANIZER;CN="Maison des croyances et traditions cauchoises":MAILTO:maisondescroyances@yahoo.fr
END:VEVENT
BEGIN:VEVENT
DTSTART;VALUE=DATE:20250614
DTEND;VALUE=DATE:20250615
DTSTAMP:20260421T020752
CREATED:20250412T132518Z
LAST-MODIFIED:20250418T102749Z
UID:2595-1749859200-1749945599@sipetitesdalles.org
SUMMARY:Fête de la famille
DESCRIPTION:
URL:https://sipetitesdalles.org/evenement/fete-de-la-famille/
LOCATION:Saint-Martin-aux-Buneaux\, RHG3+26\, Saint-Martin-aux-Buneaux
CATEGORIES:Tout public
END:VEVENT
BEGIN:VEVENT
DTSTART;VALUE=DATE:20250622
DTEND;VALUE=DATE:20250623
DTSTAMP:20260421T020752
CREATED:20250412T133024Z
LAST-MODIFIED:20250418T131124Z
UID:2599-1750550400-1750636799@sipetitesdalles.org
SUMMARY:Exposition-vente
DESCRIPTION:
URL:https://sipetitesdalles.org/evenement/exposition-vente-2/
LOCATION:Salle des Mouettes\, RGHX+6X\, Saint-Martin-aux-Buneaux\, 76450\, France
CATEGORIES:Tout public
END:VEVENT
END:VCALENDAR