BEGIN:VCALENDAR
VERSION:2.0
PRODID:-//SI Petites Dalles ! - ECPv6.15.20//NONSGML v1.0//EN
CALSCALE:GREGORIAN
METHOD:PUBLISH
X-WR-CALNAME:SI Petites Dalles !
X-ORIGINAL-URL:https://sipetitesdalles.org
X-WR-CALDESC:Évènements pour SI Petites Dalles !
REFRESH-INTERVAL;VALUE=DURATION:PT1H
X-Robots-Tag:noindex
X-PUBLISHED-TTL:PT1H
BEGIN:VTIMEZONE
TZID:Europe/Paris
BEGIN:DAYLIGHT
TZOFFSETFROM:+0100
TZOFFSETTO:+0200
TZNAME:CEST
DTSTART:20240331T010000
END:DAYLIGHT
BEGIN:STANDARD
TZOFFSETFROM:+0200
TZOFFSETTO:+0100
TZNAME:CET
DTSTART:20241027T010000
END:STANDARD
BEGIN:DAYLIGHT
TZOFFSETFROM:+0100
TZOFFSETTO:+0200
TZNAME:CEST
DTSTART:20250330T010000
END:DAYLIGHT
BEGIN:STANDARD
TZOFFSETFROM:+0200
TZOFFSETTO:+0100
TZNAME:CET
DTSTART:20251026T010000
END:STANDARD
BEGIN:DAYLIGHT
TZOFFSETFROM:+0100
TZOFFSETTO:+0200
TZNAME:CEST
DTSTART:20260329T010000
END:DAYLIGHT
BEGIN:STANDARD
TZOFFSETFROM:+0200
TZOFFSETTO:+0100
TZNAME:CET
DTSTART:20261025T010000
END:STANDARD
END:VTIMEZONE
BEGIN:VEVENT
DTSTART;VALUE=DATE:20250726
DTEND;VALUE=DATE:20250811
DTSTAMP:20260421T053613
CREATED:20250402T190040Z
LAST-MODIFIED:20250418T132717Z
UID:1886-1753488000-1754870399@sipetitesdalles.org
SUMMARY:Exposition de peintures\, photos et sculptures
DESCRIPTION:
URL:https://sipetitesdalles.org/evenement/exposition-de-peintures-photos-et-sculptures/
LOCATION:Chapelle des Petites Dalles\, RG9G+XC\, Les Petites Dalles
CATEGORIES:Tout public
END:VEVENT
BEGIN:VEVENT
DTSTART;TZID=Europe/Paris:20250801T120000
DTEND;TZID=Europe/Paris:20250801T180000
DTSTAMP:20260421T053613
CREATED:20250413T183517Z
LAST-MODIFIED:20250416T141837Z
UID:1263-1754049600-1754071200@sipetitesdalles.org
SUMMARY:Ouverture du Tournoi de tennis CTCA
DESCRIPTION:Circuit des Tournois de la Côte d’Albâtre et Tournoi Senior Plus  \n\nFinale le 15 août \n\nJuge-arbitre : Serge Christophe
URL:https://sipetitesdalles.org/evenement/tournoi-de-tennis-ctca/
LOCATION:Tennis Club Dallais (TCD)\, RG8H+C9\, Les Petites Dalles\, France
CATEGORIES:Tout public
END:VEVENT
BEGIN:VEVENT
DTSTART;TZID=Europe/Paris:20250802T103000
DTEND;TZID=Europe/Paris:20250802T120000
DTSTAMP:20260421T053613
CREATED:20250302T145944Z
LAST-MODIFIED:20250706T094507Z
UID:2701-1754130600-1754136000@sipetitesdalles.org
SUMMARY:Assemblée générale de l'association de protection du site des Petites Dalles
DESCRIPTION:
URL:https://sipetitesdalles.org/evenement/assemblee-generale-de-lassociation-de-protection-du-site-des-petites-dalles/
LOCATION:Tennis Club Dallais (TCD)\, RG8H+C9\, Les Petites Dalles\, France
CATEGORIES:Tout public
ATTACH;FMTTYPE=image/jpeg:https://sipetitesdalles.org/wp-content/uploads/2025/07/20250802-AG-APSPD.jpg
END:VEVENT
BEGIN:VEVENT
DTSTART;VALUE=DATE:20250803
DTEND;VALUE=DATE:20250804
DTSTAMP:20260421T053613
CREATED:20250406T202423Z
LAST-MODIFIED:20250706T094310Z
UID:2410-1754179200-1754265599@sipetitesdalles.org
SUMMARY:Plage en Fête
DESCRIPTION:Rendez-vous des peintres dès le matin 8h à la plage et bain de mer à midi\, avec les maillots de bain d’époque 1900 prêtés sur demande par l’association d’Yport « Les Amarres ». \nPas de pique-nique organisé\, mais ceux qui voudront déjeuner après le bain sur la plage le feront\, déguisés ou pas.
URL:https://sipetitesdalles.org/evenement/plage-en-fete/
LOCATION:Plage\, RGGF+5P\, Les Petites Dalles\, France
ATTACH;FMTTYPE=image/jpeg:https://sipetitesdalles.org/wp-content/uploads/2025/07/20250803-Plages-en-fete.jpg
END:VEVENT
BEGIN:VEVENT
DTSTART;VALUE=DATE:20250805
DTEND;VALUE=DATE:20250806
DTSTAMP:20260421T053613
CREATED:20250413T183803Z
LAST-MODIFIED:20250416T142252Z
UID:1269-1754352000-1754438399@sipetitesdalles.org
SUMMARY:TCD Golf Trophy
DESCRIPTION:Golf Trophy au Golf de Normandie – Côte d’Albâtre\, remise des prix et dîner au club.
URL:https://sipetitesdalles.org/evenement/tcd-golf-trophy/
LOCATION:Tennis Club Dallais (TCD)\, RG8H+C9\, Les Petites Dalles\, France
CATEGORIES:Tout public
END:VEVENT
BEGIN:VEVENT
DTSTART;VALUE=DATE:20250806
DTEND;VALUE=DATE:20250808
DTSTAMP:20260421T053613
CREATED:20250416T142500Z
LAST-MODIFIED:20250416T142500Z
UID:2772-1754438400-1754611199@sipetitesdalles.org
SUMMARY:Tournoi de Padder - Août
DESCRIPTION:
URL:https://sipetitesdalles.org/evenement/tournoi-de-padder-aout/
LOCATION:Tennis Club Dallais (TCD)\, RG8H+C9\, Les Petites Dalles\, France
END:VEVENT
BEGIN:VEVENT
DTSTART;TZID=Europe/Paris:20250806T180000
DTEND;TZID=Europe/Paris:20250806T193000
DTSTAMP:20260421T053613
CREATED:20250412T131217Z
LAST-MODIFIED:20250418T095646Z
UID:2586-1754503200-1754508600@sipetitesdalles.org
SUMMARY:Conférence : Le Millénaire de Caen
DESCRIPTION:Conférence SASdit présentée par François Neveux
URL:https://sipetitesdalles.org/evenement/conference-le-millenaire-de-caen/
LOCATION:Salle de la Concorde\, 12\, rue Louis Barbier\, Valmont\, 76540
CATEGORIES:Tout public
END:VEVENT
BEGIN:VEVENT
DTSTART;VALUE=DATE:20250807
DTEND;VALUE=DATE:20250808
DTSTAMP:20260421T053613
CREATED:20250412T132348Z
LAST-MODIFIED:20250418T102424Z
UID:2593-1754524800-1754611199@sipetitesdalles.org
SUMMARY:Assemblée générale des Amis de l'église et du patrimoine
DESCRIPTION:
URL:https://sipetitesdalles.org/evenement/assemblee-generale-des-amis-de-leglise-et-du-patrimoine/
LOCATION:Saint-Martin-aux-Buneaux\, RHG3+26\, Saint-Martin-aux-Buneaux
CATEGORIES:Tout public
END:VEVENT
BEGIN:VEVENT
DTSTART;TZID=Europe/Paris:20250808T190000
DTEND;TZID=Europe/Paris:20250808T230000
DTSTAMP:20260421T053613
CREATED:20250416T142811Z
LAST-MODIFIED:20250416T142811Z
UID:2775-1754679600-1754694000@sipetitesdalles.org
SUMMARY:Apéro huitres charcuterie et crêpes
DESCRIPTION:
URL:https://sipetitesdalles.org/evenement/apero-huitres-charcuterie-et-crepes/
LOCATION:Tennis Club Dallais (TCD)\, RG8H+C9\, Les Petites Dalles\, France
CATEGORIES:Tout public
END:VEVENT
BEGIN:VEVENT
DTSTART;TZID=Europe/Paris:20250809T103000
DTEND;TZID=Europe/Paris:20250809T123000
DTSTAMP:20260421T053613
CREATED:20250413T180659Z
LAST-MODIFIED:20250416T143103Z
UID:1921-1754735400-1754742600@sipetitesdalles.org
SUMMARY:Assemblée générale du TCD
DESCRIPTION:
URL:https://sipetitesdalles.org/evenement/assemblee-generale-du-tcd/
LOCATION:Tennis Club Dallais (TCD)\, RG8H+C9\, Les Petites Dalles\, France
CATEGORIES:Tout public
END:VEVENT
BEGIN:VEVENT
DTSTART;TZID=Europe/Paris:20250809T160000
DTEND;TZID=Europe/Paris:20250809T183000
DTSTAMP:20260421T053613
CREATED:20250413T184505Z
LAST-MODIFIED:20250416T143222Z
UID:1284-1754755200-1754764200@sipetitesdalles.org
SUMMARY:Tournoi de pétanque mixte
DESCRIPTION:
URL:https://sipetitesdalles.org/evenement/tournoi-de-petanque-mixte/
LOCATION:Tennis Club Dallais (TCD)\, RG8H+C9\, Les Petites Dalles\, France
CATEGORIES:Tout public
END:VEVENT
BEGIN:VEVENT
DTSTART;VALUE=DATE:20250811
DTEND;VALUE=DATE:20250812
DTSTAMP:20260421T053613
CREATED:20250413T184122Z
LAST-MODIFIED:20250416T143344Z
UID:1276-1754870400-1754956799@sipetitesdalles.org
SUMMARY:Bal costumé des enfants
DESCRIPTION:
URL:https://sipetitesdalles.org/evenement/bal-costume-des-enfants/
LOCATION:Tennis Club Dallais (TCD)\, RG8H+C9\, Les Petites Dalles\, France
CATEGORIES:Enfant
END:VEVENT
BEGIN:VEVENT
DTSTART;TZID=Europe/Paris:20250814T193000
DTEND;TZID=Europe/Paris:20250814T233000
DTSTAMP:20260421T053613
CREATED:20240413T181242Z
LAST-MODIFIED:20250416T143553Z
UID:1925-1755199800-1755214200@sipetitesdalles.org
SUMMARY:Dîner du centenaire du TCD
DESCRIPTION:Dîner du centenaire\, dîner des chefs\, suivi d’un spectacle.
URL:https://sipetitesdalles.org/evenement/diner-du-centenaire-du-tcd/
LOCATION:Tennis Club Dallais (TCD)\, RG8H+C9\, Les Petites Dalles\, France
CATEGORIES:Tout public
END:VEVENT
BEGIN:VEVENT
DTSTART;VALUE=DATE:20250815
DTEND;VALUE=DATE:20250816
DTSTAMP:20260421T053613
CREATED:20250413T181406Z
LAST-MODIFIED:20250416T142034Z
UID:1927-1755216000-1755302399@sipetitesdalles.org
SUMMARY:Finales du tournoi de tennis open
DESCRIPTION:
URL:https://sipetitesdalles.org/evenement/finales-du-tournoi-de-tennis-open/
LOCATION:Tennis Club Dallais (TCD)\, RG8H+C9\, Les Petites Dalles\, France
CATEGORIES:Tout public
END:VEVENT
BEGIN:VEVENT
DTSTART;VALUE=DATE:20250822
DTEND;VALUE=DATE:20250824
DTSTAMP:20260421T053613
CREATED:20250419T161444Z
LAST-MODIFIED:20250419T161444Z
UID:2864-1755820800-1755993599@sipetitesdalles.org
SUMMARY:Festival Écho des falaises
DESCRIPTION:Venez découvrir en famille la 3e édition\, à 5 minutes des Petites Dalles ! \nAu programme :\nConcerts de musique de chambre avec des musiciens de l’Orchestre de Paris\, des ateliers pour petits (Pierre et le Loup) et grands (compo-impro)\, des contes pour toute la famille\, des installations sonores… le tout dans le cadre charmant et verdoyant du Château du Profil\, offrant jeux\, buvette et restauration. \nRéservations et programme détaillé sur le site www.echo-des-falaises.fr
URL:https://sipetitesdalles.org/evenement/festival-echo-des-falaises/
LOCATION:Butot-Vénesville\, 1 Route de Saint Martin\, Butot-Vénesville\, 76450\, France
CATEGORIES:Tout public
ORGANIZER;CN="Association Culturelle et Sportive Butotaise":MAILTO:acsbutotaise@gmail.com
END:VEVENT
BEGIN:VEVENT
DTSTART;TZID=Europe/Paris:20250823T193000
DTEND;TZID=Europe/Paris:20250823T233000
DTSTAMP:20260421T053613
CREATED:20250413T184632Z
LAST-MODIFIED:20250416T143711Z
UID:1288-1755977400-1755991800@sipetitesdalles.org
SUMMARY:Barbecue de clôture
DESCRIPTION:
URL:https://sipetitesdalles.org/evenement/barbecue-de-cloture/
LOCATION:Tennis Club Dallais (TCD)\, RG8H+C9\, Les Petites Dalles\, France
CATEGORIES:Tout public
END:VEVENT
BEGIN:VEVENT
DTSTART;VALUE=DATE:20250829
DTEND;VALUE=DATE:20250830
DTSTAMP:20260421T053613
CREATED:20250413T184555Z
LAST-MODIFIED:20250416T143909Z
UID:1286-1756425600-1756511999@sipetitesdalles.org
SUMMARY:Fermeture de l’école de tennis
DESCRIPTION:La semaine du 25 au 29 août sera maintenue en fonction de la demande.
URL:https://sipetitesdalles.org/evenement/fermeture-de-lecole-de-tennis/
LOCATION:Tennis Club Dallais (TCD)\, RG8H+C9\, Les Petites Dalles\, France
CATEGORIES:Tout public
END:VEVENT
BEGIN:VEVENT
DTSTART;VALUE=DATE:20250831
DTEND;VALUE=DATE:20250901
DTSTAMP:20260421T053613
CREATED:20250413T182001Z
LAST-MODIFIED:20250416T144001Z
UID:1936-1756598400-1756684799@sipetitesdalles.org
SUMMARY:Fermeture du TCD
DESCRIPTION:
URL:https://sipetitesdalles.org/evenement/fermeture-du-tcd/
LOCATION:Tennis Club Dallais (TCD)\, RG8H+C9\, Les Petites Dalles\, France
CATEGORIES:Tout public
END:VEVENT
END:VCALENDAR