BEGIN:VCALENDAR
VERSION:2.0
PRODID:-//SI Petites Dalles ! - ECPv6.15.20//NONSGML v1.0//EN
CALSCALE:GREGORIAN
METHOD:PUBLISH
X-WR-CALNAME:SI Petites Dalles !
X-ORIGINAL-URL:https://sipetitesdalles.org
X-WR-CALDESC:Évènements pour SI Petites Dalles !
REFRESH-INTERVAL;VALUE=DURATION:PT1H
X-Robots-Tag:noindex
X-PUBLISHED-TTL:PT1H
BEGIN:VTIMEZONE
TZID:Europe/Paris
BEGIN:DAYLIGHT
TZOFFSETFROM:+0100
TZOFFSETTO:+0200
TZNAME:CEST
DTSTART:20240331T010000
END:DAYLIGHT
BEGIN:STANDARD
TZOFFSETFROM:+0200
TZOFFSETTO:+0100
TZNAME:CET
DTSTART:20241027T010000
END:STANDARD
BEGIN:DAYLIGHT
TZOFFSETFROM:+0100
TZOFFSETTO:+0200
TZNAME:CEST
DTSTART:20250330T010000
END:DAYLIGHT
BEGIN:STANDARD
TZOFFSETFROM:+0200
TZOFFSETTO:+0100
TZNAME:CET
DTSTART:20251026T010000
END:STANDARD
BEGIN:DAYLIGHT
TZOFFSETFROM:+0100
TZOFFSETTO:+0200
TZNAME:CEST
DTSTART:20260329T010000
END:DAYLIGHT
BEGIN:STANDARD
TZOFFSETFROM:+0200
TZOFFSETTO:+0100
TZNAME:CET
DTSTART:20261025T010000
END:STANDARD
END:VTIMEZONE
BEGIN:VEVENT
DTSTART;TZID=Europe/Paris:20250903T180000
DTEND;TZID=Europe/Paris:20250903T193000
DTSTAMP:20260421T072752
CREATED:20250412T131529Z
LAST-MODIFIED:20250418T095556Z
UID:2588-1756922400-1756927800@sipetitesdalles.org
SUMMARY:Conférence : Le Familistère Godin
DESCRIPTION:Conférence SASdit avec Bérangère Descamps
URL:https://sipetitesdalles.org/evenement/conference-le-familistere-godin/
LOCATION:Salle de la Concorde\, 12\, rue Louis Barbier\, Valmont\, 76540
CATEGORIES:Tout public
END:VEVENT
BEGIN:VEVENT
DTSTART;VALUE=DATE:20250913
DTEND;VALUE=DATE:20250915
DTSTAMP:20260421T072752
CREATED:20250411T133932Z
LAST-MODIFIED:20250418T101552Z
UID:2467-1757721600-1757894399@sipetitesdalles.org
SUMMARY:Visite de la grotte - 13 et 14 septembre 2025
DESCRIPTION:Grâce au travail d’un collectif\, la grotte est progressivement désobstruée. Depuis mars 2021\, la grotte des Petites-Dales développe plus de 850 mètres\, et se positionne à la 8e place en développement des grottes de la craie du bassin parisien. \nInscriptions sur le site cnek.eu
URL:https://sipetitesdalles.org/evenement/visite-de-la-grotte-septembre/
LOCATION:Grotte des Petites Dales\, RG8J+CM\, Les Petites Dalles\, 76450\, France
CATEGORIES:Tout public
END:VEVENT
BEGIN:VEVENT
DTSTART;VALUE=DATE:20250914
DTEND;VALUE=DATE:20250915
DTSTAMP:20260421T072752
CREATED:20250418T134752Z
LAST-MODIFIED:20250418T134752Z
UID:2833-1757808000-1757894399@sipetitesdalles.org
SUMMARY:Concours de boules cauchoises - septembre
DESCRIPTION:
URL:https://sipetitesdalles.org/evenement/concours-de-boules-cauchoises-septembre/
LOCATION:Maison des croyances et traditions cauchoises\, 18\, rue de la mairie\, Saint-Pierre-en-Port\, 76540\, France
CATEGORIES:Tout public
ORGANIZER;CN="Maison des croyances et traditions cauchoises":MAILTO:maisondescroyances@yahoo.fr
END:VEVENT
BEGIN:VEVENT
DTSTART;VALUE=DATE:20250927
DTEND;VALUE=DATE:20250929
DTSTAMP:20260421T072752
CREATED:20250418T134918Z
LAST-MODIFIED:20250418T134918Z
UID:2835-1758931200-1759103999@sipetitesdalles.org
SUMMARY:Fête des Normands
DESCRIPTION:Clôture de la saison
URL:https://sipetitesdalles.org/evenement/fete-des-normands/
LOCATION:Maison des croyances et traditions cauchoises\, 18\, rue de la mairie\, Saint-Pierre-en-Port\, 76540\, France
CATEGORIES:Tout public
ORGANIZER;CN="Maison des croyances et traditions cauchoises":MAILTO:maisondescroyances@yahoo.fr
END:VEVENT
END:VCALENDAR