BEGIN:VCALENDAR
VERSION:2.0
PRODID:-//SI Petites Dalles ! - ECPv6.15.20//NONSGML v1.0//EN
CALSCALE:GREGORIAN
METHOD:PUBLISH
X-ORIGINAL-URL:https://sipetitesdalles.org
X-WR-CALDESC:Évènements pour SI Petites Dalles !
REFRESH-INTERVAL;VALUE=DURATION:PT1H
X-Robots-Tag:noindex
X-PUBLISHED-TTL:PT1H
BEGIN:VTIMEZONE
TZID:Europe/Paris
BEGIN:DAYLIGHT
TZOFFSETFROM:+0100
TZOFFSETTO:+0200
TZNAME:CEST
DTSTART:20240331T010000
END:DAYLIGHT
BEGIN:STANDARD
TZOFFSETFROM:+0200
TZOFFSETTO:+0100
TZNAME:CET
DTSTART:20241027T010000
END:STANDARD
BEGIN:DAYLIGHT
TZOFFSETFROM:+0100
TZOFFSETTO:+0200
TZNAME:CEST
DTSTART:20250330T010000
END:DAYLIGHT
BEGIN:STANDARD
TZOFFSETFROM:+0200
TZOFFSETTO:+0100
TZNAME:CET
DTSTART:20251026T010000
END:STANDARD
BEGIN:DAYLIGHT
TZOFFSETFROM:+0100
TZOFFSETTO:+0200
TZNAME:CEST
DTSTART:20260329T010000
END:DAYLIGHT
BEGIN:STANDARD
TZOFFSETFROM:+0200
TZOFFSETTO:+0100
TZNAME:CET
DTSTART:20261025T010000
END:STANDARD
END:VTIMEZONE
BEGIN:VEVENT
DTSTART;TZID=Europe/Paris:20251105T180000
DTEND;TZID=Europe/Paris:20251105T193000
DTSTAMP:20260423T101037
CREATED:20250418T100444Z
LAST-MODIFIED:20250418T100444Z
UID:2798-1762365600-1762371000@sipetitesdalles.org
SUMMARY:Conférence : Les 40 ans des Magiciens de la Nuit
DESCRIPTION:Conférence SASdit avec Francis Grandguillot et Philippe Hauville 
URL:https://sipetitesdalles.org/evenement/conference-les-40-ans-des-magiciens-de-la-nuit/
LOCATION:Salle de la Concorde\, 12\, rue Louis Barbier\, Valmont\, 76540
CATEGORIES:Tout public
END:VEVENT
BEGIN:VEVENT
DTSTART;TZID=Europe/Paris:20251108T080000
DTEND;TZID=Europe/Paris:20251108T123000
DTSTAMP:20260423T101037
CREATED:20250414T211412Z
LAST-MODIFIED:20250416T150333Z
UID:688-1762588800-1762605000@sipetitesdalles.org
SUMMARY:Foire aux harengs
DESCRIPTION:
URL:https://sipetitesdalles.org/evenement/foire-aux-harengs/
LOCATION:Parking de l’église de Sassetot-le-Mauconduit\, RG3H+QG\, Sassetot-le-Mauconduit\, 76540\, France
CATEGORIES:Tout public
END:VEVENT
BEGIN:VEVENT
DTSTART;VALUE=DATE:20251115
DTEND;VALUE=DATE:20251116
DTSTAMP:20260423T101037
CREATED:20250412T132835Z
LAST-MODIFIED:20250416T150042Z
UID:2597-1763164800-1763251199@sipetitesdalles.org
SUMMARY:Marché de Noël
DESCRIPTION:
URL:https://sipetitesdalles.org/evenement/marche-de-noel-saint-martin/
LOCATION:Salle des Mouettes\, RGHX+6X\, Saint-Martin-aux-Buneaux\, 76450\, France
CATEGORIES:Tout public
END:VEVENT
BEGIN:VEVENT
DTSTART;VALUE=DATE:20251122
DTEND;VALUE=DATE:20251124
DTSTAMP:20260423T101037
CREATED:20250412T105453Z
LAST-MODIFIED:20250416T150208Z
UID:2576-1763769600-1763942399@sipetitesdalles.org
SUMMARY:Marché de Noël
DESCRIPTION:
URL:https://sipetitesdalles.org/evenement/marche-de-noel/
LOCATION:Salle Paul Vairetti\, RH54+24\, Vinnemerville\, France
CATEGORIES:Tout public
END:VEVENT
END:VCALENDAR