BEGIN:VCALENDAR
VERSION:2.0
PRODID:-//SI Petites Dalles ! - ECPv6.15.20//NONSGML v1.0//EN
CALSCALE:GREGORIAN
METHOD:PUBLISH
X-WR-CALNAME:SI Petites Dalles !
X-ORIGINAL-URL:https://sipetitesdalles.org
X-WR-CALDESC:Évènements pour SI Petites Dalles !
REFRESH-INTERVAL;VALUE=DURATION:PT1H
X-Robots-Tag:noindex
X-PUBLISHED-TTL:PT1H
BEGIN:VTIMEZONE
TZID:Europe/Paris
BEGIN:DAYLIGHT
TZOFFSETFROM:+0100
TZOFFSETTO:+0200
TZNAME:CEST
DTSTART:20240331T010000
END:DAYLIGHT
BEGIN:STANDARD
TZOFFSETFROM:+0200
TZOFFSETTO:+0100
TZNAME:CET
DTSTART:20241027T010000
END:STANDARD
BEGIN:DAYLIGHT
TZOFFSETFROM:+0100
TZOFFSETTO:+0200
TZNAME:CEST
DTSTART:20250330T010000
END:DAYLIGHT
BEGIN:STANDARD
TZOFFSETFROM:+0200
TZOFFSETTO:+0100
TZNAME:CET
DTSTART:20251026T010000
END:STANDARD
BEGIN:DAYLIGHT
TZOFFSETFROM:+0100
TZOFFSETTO:+0200
TZNAME:CEST
DTSTART:20260329T010000
END:DAYLIGHT
BEGIN:STANDARD
TZOFFSETFROM:+0200
TZOFFSETTO:+0100
TZNAME:CET
DTSTART:20261025T010000
END:STANDARD
END:VTIMEZONE
BEGIN:VEVENT
DTSTART;TZID=Europe/Paris:20251203T080000
DTEND;TZID=Europe/Paris:20251203T170000
DTSTAMP:20260423T112502
CREATED:20250418T100648Z
LAST-MODIFIED:20250418T100648Z
UID:2800-1764748800-1764781200@sipetitesdalles.org
SUMMARY:Conférence : L’histoire de la trompette
DESCRIPTION:Conférence SASdit avec Pascal Piedefer\, Fondateur du Brass Band de Normandie 
URL:https://sipetitesdalles.org/evenement/conference-lhistoire-de-la-trompette/
LOCATION:Salle de la Concorde\, 12\, rue Louis Barbier\, Valmont\, 76540
CATEGORIES:Tout public
END:VEVENT
BEGIN:VEVENT
DTSTART;VALUE=DATE:20251207
DTEND;VALUE=DATE:20251208
DTSTAMP:20260423T112502
CREATED:20250414T210334Z
LAST-MODIFIED:20250416T150727Z
UID:678-1765065600-1765151999@sipetitesdalles.org
SUMMARY:Repas de Noël
DESCRIPTION:
URL:https://sipetitesdalles.org/evenement/repas-de-noel/
LOCATION:Salle des Mouettes\, RGHX+6X\, Saint-Martin-aux-Buneaux\, 76450\, France
CATEGORIES:Tout public
END:VEVENT
BEGIN:VEVENT
DTSTART;VALUE=DATE:20251220
DTEND;VALUE=DATE:20251221
DTSTAMP:20260423T112502
CREATED:20250418T130947Z
LAST-MODIFIED:20250418T130947Z
UID:2814-1766188800-1766275199@sipetitesdalles.org
SUMMARY:Défilé de tracteurs
DESCRIPTION:
URL:https://sipetitesdalles.org/evenement/defile-de-tracteurs/
LOCATION:Saint-Martin-aux-Buneaux\, RHG3+26\, Saint-Martin-aux-Buneaux
CATEGORIES:Tout public
END:VEVENT
END:VCALENDAR